BEGIN:VCALENDAR
VERSION:2.0
PRODID:-// - ECPv6.15.20//NONSGML v1.0//EN
CALSCALE:GREGORIAN
METHOD:PUBLISH
X-ORIGINAL-URL:https://www.northwoodridingclub.co.uk
X-WR-CALDESC:Events for 
REFRESH-INTERVAL;VALUE=DURATION:PT1H
X-Robots-Tag:noindex
X-PUBLISHED-TTL:PT1H
BEGIN:VTIMEZONE
TZID:Europe/London
BEGIN:DAYLIGHT
TZOFFSETFROM:+0000
TZOFFSETTO:+0100
TZNAME:BST
DTSTART:20170326T010000
END:DAYLIGHT
BEGIN:STANDARD
TZOFFSETFROM:+0100
TZOFFSETTO:+0000
TZNAME:GMT
DTSTART:20171029T010000
END:STANDARD
BEGIN:DAYLIGHT
TZOFFSETFROM:+0000
TZOFFSETTO:+0100
TZNAME:BST
DTSTART:20180325T010000
END:DAYLIGHT
BEGIN:STANDARD
TZOFFSETFROM:+0100
TZOFFSETTO:+0000
TZNAME:GMT
DTSTART:20181028T010000
END:STANDARD
BEGIN:DAYLIGHT
TZOFFSETFROM:+0000
TZOFFSETTO:+0100
TZNAME:BST
DTSTART:20190331T010000
END:DAYLIGHT
BEGIN:STANDARD
TZOFFSETFROM:+0100
TZOFFSETTO:+0000
TZNAME:GMT
DTSTART:20191027T010000
END:STANDARD
BEGIN:DAYLIGHT
TZOFFSETFROM:+0000
TZOFFSETTO:+0100
TZNAME:BST
DTSTART:20200329T010000
END:DAYLIGHT
BEGIN:STANDARD
TZOFFSETFROM:+0100
TZOFFSETTO:+0000
TZNAME:GMT
DTSTART:20201025T010000
END:STANDARD
BEGIN:DAYLIGHT
TZOFFSETFROM:+0000
TZOFFSETTO:+0100
TZNAME:BST
DTSTART:20210328T010000
END:DAYLIGHT
BEGIN:STANDARD
TZOFFSETFROM:+0100
TZOFFSETTO:+0000
TZNAME:GMT
DTSTART:20211031T010000
END:STANDARD
BEGIN:DAYLIGHT
TZOFFSETFROM:+0000
TZOFFSETTO:+0100
TZNAME:BST
DTSTART:20220327T010000
END:DAYLIGHT
BEGIN:STANDARD
TZOFFSETFROM:+0100
TZOFFSETTO:+0000
TZNAME:GMT
DTSTART:20221030T010000
END:STANDARD
BEGIN:DAYLIGHT
TZOFFSETFROM:+0000
TZOFFSETTO:+0100
TZNAME:BST
DTSTART:20230326T010000
END:DAYLIGHT
BEGIN:STANDARD
TZOFFSETFROM:+0100
TZOFFSETTO:+0000
TZNAME:GMT
DTSTART:20231029T010000
END:STANDARD
BEGIN:DAYLIGHT
TZOFFSETFROM:+0000
TZOFFSETTO:+0100
TZNAME:BST
DTSTART:20240331T010000
END:DAYLIGHT
BEGIN:STANDARD
TZOFFSETFROM:+0100
TZOFFSETTO:+0000
TZNAME:GMT
DTSTART:20241027T010000
END:STANDARD
END:VTIMEZONE
BEGIN:VEVENT
DTSTART;VALUE=DATE:20231223
DTEND;VALUE=DATE:20231224
DTSTAMP:20260425T130311
CREATED:20240302T163531Z
LAST-MODIFIED:20240123T051505Z
UID:2705-1703289600-1703375999@www.northwoodridingclub.co.uk
SUMMARY:Ben Franklin flat clinic
DESCRIPTION:
URL:https://www.northwoodridingclub.co.uk/event/ben-franklin-flat-lesson-4/
LOCATION:Stockers Farm Rickmansworth Herts\, Stockers Farm Road\, Hertfordshire\, WD3 1NZ
CATEGORIES:Training
END:VEVENT
BEGIN:VEVENT
DTSTART;VALUE=DATE:20211010
DTEND;VALUE=DATE:20211011
DTSTAMP:20260425T130311
CREATED:20210511T135855Z
LAST-MODIFIED:20210820T115933Z
UID:1494-1633824000-1633910399@www.northwoodridingclub.co.uk
SUMMARY:Training Horse
DESCRIPTION:
URL:https://www.northwoodridingclub.co.uk/event/training-horse/
LOCATION:Stockers Farm Rickmansworth Herts\, Stockers Farm Road\, Hertfordshire\, WD3 1NZ
CATEGORIES:Training
END:VEVENT
BEGIN:VEVENT
DTSTART;VALUE=DATE:20210717
DTEND;VALUE=DATE:20210718
DTSTAMP:20260425T130311
CREATED:20210710T203431Z
LAST-MODIFIED:20210710T203431Z
UID:1635-1626480000-1626566399@www.northwoodridingclub.co.uk
SUMMARY:Westwick hall cross country course
DESCRIPTION:
URL:https://www.northwoodridingclub.co.uk/event/westwick-hall-cross-country-course/
LOCATION:Westwick Hall Cross Country\, Beechtree Lane\, St Albans
CATEGORIES:Training
END:VEVENT
BEGIN:VEVENT
DTSTART;VALUE=DATE:20210626
DTEND;VALUE=DATE:20210627
DTSTAMP:20260425T130311
CREATED:20210519T211310Z
LAST-MODIFIED:20210519T211310Z
UID:1498-1624665600-1624751999@www.northwoodridingclub.co.uk
SUMMARY:Ben Franklin lesson
DESCRIPTION:
URL:https://www.northwoodridingclub.co.uk/event/ben-franklin-lesson-5/
LOCATION:Stockers Farm Rickmansworth Herts\, Stockers Farm Road\, Hertfordshire\, WD3 1NZ
CATEGORIES:Training
END:VEVENT
BEGIN:VEVENT
DTSTART;VALUE=DATE:20210613
DTEND;VALUE=DATE:20210614
DTSTAMP:20260425T130311
CREATED:20210312T221309Z
LAST-MODIFIED:20210611T142546Z
UID:1390-1623542400-1623628799@www.northwoodridingclub.co.uk
SUMMARY:Jo Brett X/C Schooling at Rosehill
DESCRIPTION:
URL:https://www.northwoodridingclub.co.uk/event/jo-brett-x-c-schooling-at-rosehill-2/
LOCATION:Rosehill Estate\, Rose Lane\, Henley on Thames\, RG9 3EB\, United Kingdom
CATEGORIES:Training
END:VEVENT
BEGIN:VEVENT
DTSTART;VALUE=DATE:20210530
DTEND;VALUE=DATE:20210531
DTSTAMP:20260425T130311
CREATED:20210312T221722Z
LAST-MODIFIED:20210429T152519Z
UID:1393-1622332800-1622419199@www.northwoodridingclub.co.uk
SUMMARY:Jo Brett Poles / S/J at Stockers
DESCRIPTION:
URL:https://www.northwoodridingclub.co.uk/event/jo-brett-poles-s-j-at-stockers/
LOCATION:Hertfordshire
CATEGORIES:Training
END:VEVENT
BEGIN:VEVENT
DTSTART;VALUE=DATE:20210515
DTEND;VALUE=DATE:20210516
DTSTAMP:20260425T130311
CREATED:20200902T212944Z
LAST-MODIFIED:20210424T135210Z
UID:1180-1621036800-1621123199@www.northwoodridingclub.co.uk
SUMMARY:Ben Franklin Lesson new date for Stockers Farm
DESCRIPTION:Flatwork lesson tailored to your needs
URL:https://www.northwoodridingclub.co.uk/event/ben-franklin-lesson-4/
LOCATION:stockers farm road Rickmansworth Herts\, United Kingdom
CATEGORIES:Training
END:VEVENT
BEGIN:VEVENT
DTSTART;VALUE=DATE:20201114
DTEND;VALUE=DATE:20201115
DTSTAMP:20260425T130311
CREATED:20200705T113717Z
LAST-MODIFIED:20201115T205610Z
UID:1000-1605312000-1605398399@www.northwoodridingclub.co.uk
SUMMARY:Joanne Brett Pole/Jump lesson CANCELLED
DESCRIPTION: 
URL:https://www.northwoodridingclub.co.uk/event/jo-brett-pole-jump-lesson-2/
LOCATION:stockers farm road Rickmansworth Herts\, United Kingdom
CATEGORIES:Training
END:VEVENT
BEGIN:VEVENT
DTSTART;VALUE=DATE:20200913
DTEND;VALUE=DATE:20200914
DTSTAMP:20260425T130311
CREATED:20200708T134504Z
LAST-MODIFIED:20200902T211314Z
UID:1137-1599955200-1600041599@www.northwoodridingclub.co.uk
SUMMARY:Ben Franklin Lessons
DESCRIPTION:
URL:https://www.northwoodridingclub.co.uk/event/ben-franklin-lessons-2/
LOCATION:stockers farm road Rickmansworth Herts\, United Kingdom
CATEGORIES:Training
END:VEVENT
BEGIN:VEVENT
DTSTART;VALUE=DATE:20200425
DTEND;VALUE=DATE:20200426
DTSTAMP:20260425T130311
CREATED:20200108T171258Z
LAST-MODIFIED:20210312T220957Z
UID:809-1587772800-1587859199@www.northwoodridingclub.co.uk
SUMMARY:Jo Brett pole/jump lesson
DESCRIPTION:
URL:https://www.northwoodridingclub.co.uk/event/jo-brett-pole-jump-lesson/
LOCATION:stockers farm road Rickmansworth Herts\, United Kingdom
CATEGORIES:Training
END:VEVENT
BEGIN:VEVENT
DTSTART;TZID=Europe/London:20200329T090000
DTEND;TZID=Europe/London:20200329T120000
DTSTAMP:20260425T130311
CREATED:20190924T200101Z
LAST-MODIFIED:20200322T150814Z
UID:709-1585472400-1585483200@www.northwoodridingclub.co.uk
SUMMARY:Ben Franklin  lesson Cancelled
DESCRIPTION:
URL:https://www.northwoodridingclub.co.uk/event/ben-franklin-dressage-arena-practice/
LOCATION:stockers farm road Rickmansworth Herts\, United Kingdom
CATEGORIES:Training
END:VEVENT
BEGIN:VEVENT
DTSTART;VALUE=DATE:20200222
DTEND;VALUE=DATE:20200223
DTSTAMP:20260425T130311
CREATED:20191214T000045Z
LAST-MODIFIED:20200217T061519Z
UID:687-1582329600-1582415999@www.northwoodridingclub.co.uk
SUMMARY:Jo Bret Pole work/Jumping lesson
DESCRIPTION:Jo Bret pole work jumping lesson for all levels at Stockers Farm \n 
URL:https://www.northwoodridingclub.co.uk/event/jo-brett-pole-work-jumping-lesson/
LOCATION:stockers farm road Rickmansworth Herts\, United Kingdom
CATEGORIES:Training
END:VEVENT
BEGIN:VEVENT
DTSTART;TZID=Europe/London:20200209T000000
DTEND;TZID=Europe/London:20200209T235900
DTSTAMP:20260425T130311
CREATED:20191125T182915Z
LAST-MODIFIED:20200210T134610Z
UID:712-1581206400-1581292740@www.northwoodridingclub.co.uk
SUMMARY:Ben Franklin lessons
DESCRIPTION:
URL:https://www.northwoodridingclub.co.uk/event/ben-franklin-lessons/
LOCATION:stockers farm road Rickmansworth Herts\, United Kingdom
CATEGORIES:Training
END:VEVENT
BEGIN:VEVENT
DTSTART;VALUE=DATE:20190505
DTEND;VALUE=DATE:20190506
DTSTAMP:20260425T130311
CREATED:20190221T063409Z
LAST-MODIFIED:20190424T152225Z
UID:614-1557014400-1557100799@www.northwoodridingclub.co.uk
SUMMARY:Ben Franklin lesson
DESCRIPTION:Ben Franklin individual flatwork lessons at Hammer and Harp
URL:https://www.northwoodridingclub.co.uk/event/ben-franklin-lesson-3/
LOCATION:hammer and harp\, Wapseys Lane Hedgerley Green Nr Beaconsfield\, Bucks\, SL2 3XJ\, United Kingdom
CATEGORIES:Training
END:VEVENT
BEGIN:VEVENT
DTSTART;VALUE=DATE:20190217
DTEND;VALUE=DATE:20190218
DTSTAMP:20260425T130311
CREATED:20190124T230808Z
LAST-MODIFIED:20190124T230808Z
UID:611-1550361600-1550447999@www.northwoodridingclub.co.uk
SUMMARY:Ben Franklin Individual lesson ride through a test
DESCRIPTION:
URL:https://www.northwoodridingclub.co.uk/event/ben-franklin-individual-lesson-ride-through-a-test/
LOCATION:hammer and harp\, Wapseys Lane Hedgerley Green Nr Beaconsfield\, Bucks\, SL2 3XJ\, United Kingdom
CATEGORIES:Training
END:VEVENT
BEGIN:VEVENT
DTSTART;VALUE=DATE:20181223
DTEND;VALUE=DATE:20181224
DTSTAMP:20260425T130311
CREATED:20181216T234240Z
LAST-MODIFIED:20181216T234403Z
UID:606-1545523200-1545609599@www.northwoodridingclub.co.uk
SUMMARY:Ben Franklin lesson
DESCRIPTION:
URL:https://www.northwoodridingclub.co.uk/event/ben-franklin-lesson-2/
LOCATION:hammer and harp\, Wapseys Lane Hedgerley Green Nr Beaconsfield\, Bucks\, SL2 3XJ\, United Kingdom
CATEGORIES:Training
END:VEVENT
BEGIN:VEVENT
DTSTART;VALUE=DATE:20181021
DTEND;VALUE=DATE:20181022
DTSTAMP:20260425T130311
CREATED:20181007T213531Z
LAST-MODIFIED:20181008T033154Z
UID:577-1540080000-1540166399@www.northwoodridingclub.co.uk
SUMMARY:Ben Franklin individual flatwork lesson
DESCRIPTION:
URL:https://www.northwoodridingclub.co.uk/event/ben-franklin-dressage-lesson/
LOCATION:hammer and harp\, Wapseys Lane Hedgerley Green Nr Beaconsfield\, Bucks\, SL2 3XJ\, United Kingdom
CATEGORIES:Training
END:VEVENT
BEGIN:VEVENT
DTSTART;VALUE=DATE:20181012
DTEND;VALUE=DATE:20181013
DTSTAMP:20260425T130311
CREATED:20181007T214055Z
LAST-MODIFIED:20181008T032956Z
UID:579-1539302400-1539388799@www.northwoodridingclub.co.uk
SUMMARY:Ben Franklin individual flatwork lesson
DESCRIPTION:
URL:https://www.northwoodridingclub.co.uk/event/ben-franklin-lesson/
LOCATION:hammer and harp\, Wapseys Lane Hedgerley Green Nr Beaconsfield\, Bucks\, SL2 3XJ\, United Kingdom
CATEGORIES:Training
END:VEVENT
BEGIN:VEVENT
DTSTART;VALUE=DATE:20180923
DTEND;VALUE=DATE:20180924
DTSTAMP:20260425T130311
CREATED:20180919T104559Z
LAST-MODIFIED:20180919T104559Z
UID:520-1537660800-1537747199@www.northwoodridingclub.co.uk
SUMMARY:Ben Franklin Individual lessons at Hammer and Harp Farm 23rd sept
DESCRIPTION:
URL:https://www.northwoodridingclub.co.uk/event/ben-franklin-individual-lessons-at-hammer-and-harp-farm-23rd-sept/
LOCATION:Hertfordshire
CATEGORIES:Training
END:VEVENT
BEGIN:VEVENT
DTSTART;VALUE=DATE:20180622
DTEND;VALUE=DATE:20180623
DTSTAMP:20260425T130311
CREATED:20180530T125631Z
LAST-MODIFIED:20180616T193347Z
UID:348-1529625600-1529711999@www.northwoodridingclub.co.uk
SUMMARY:Ben Franklin Dressage flat work lessons
DESCRIPTION:Fabulous flat lessons by Ben to up your game at Dressage. \n  \n 
URL:https://www.northwoodridingclub.co.uk/event/ben-franklin-dressage-flat-work-lessons/
LOCATION:stockers farm road Rickmansworth Herts\, United Kingdom
CATEGORIES:Training
END:VEVENT
BEGIN:VEVENT
DTSTART;VALUE=DATE:20180609
DTEND;VALUE=DATE:20180610
DTSTAMP:20260425T130311
CREATED:20180429T192145Z
LAST-MODIFIED:20180616T193534Z
UID:303-1528502400-1528588799@www.northwoodridingclub.co.uk
SUMMARY:Nicole Biggs Pole or Jump Lesson
DESCRIPTION:Fun fitness gymnastic pole work or sympathetic jumping lessons to all levels with Nicole Biggs
URL:https://www.northwoodridingclub.co.uk/event/nicole-biggs-pole-or-jump-lesson/
LOCATION:Pipers Farm\, Harefield Road\, Rickmansworth\, WD3 1PH\, United Kingdom
CATEGORIES:Training
END:VEVENT
END:VCALENDAR