BEGIN:VCALENDAR
VERSION:2.0
PRODID:-// - ECPv6.15.20//NONSGML v1.0//EN
CALSCALE:GREGORIAN
METHOD:PUBLISH
X-ORIGINAL-URL:https://www.northwoodridingclub.co.uk
X-WR-CALDESC:Events for 
REFRESH-INTERVAL;VALUE=DURATION:PT1H
X-Robots-Tag:noindex
X-PUBLISHED-TTL:PT1H
BEGIN:VTIMEZONE
TZID:Europe/London
BEGIN:DAYLIGHT
TZOFFSETFROM:+0000
TZOFFSETTO:+0100
TZNAME:BST
DTSTART:20240331T010000
END:DAYLIGHT
BEGIN:STANDARD
TZOFFSETFROM:+0100
TZOFFSETTO:+0000
TZNAME:GMT
DTSTART:20241027T010000
END:STANDARD
BEGIN:DAYLIGHT
TZOFFSETFROM:+0000
TZOFFSETTO:+0100
TZNAME:BST
DTSTART:20250330T010000
END:DAYLIGHT
BEGIN:STANDARD
TZOFFSETFROM:+0100
TZOFFSETTO:+0000
TZNAME:GMT
DTSTART:20251026T010000
END:STANDARD
BEGIN:DAYLIGHT
TZOFFSETFROM:+0000
TZOFFSETTO:+0100
TZNAME:BST
DTSTART:20260329T010000
END:DAYLIGHT
BEGIN:STANDARD
TZOFFSETFROM:+0100
TZOFFSETTO:+0000
TZNAME:GMT
DTSTART:20261025T010000
END:STANDARD
END:VTIMEZONE
BEGIN:VEVENT
DTSTART;TZID=Europe/London:20250705T150000
DTEND;TZID=Europe/London:20250705T170000
DTSTAMP:20260424T035722
CREATED:20250404T131203Z
LAST-MODIFIED:20250522T055346Z
UID:3102-1751727600-1751734800@www.northwoodridingclub.co.uk
SUMMARY:Pachesham Equestrian Hunter Trial
DESCRIPTION:Pachesham Equestrian Hunter Trial on 13th July 2025 – warm up being arranged 🙂 \nLesson with Joanne Brett being organised at Pachesham on the afternoon of Saturday 5th July 2025 at 3pm if you want to see the course\, have a go and build confidence for the event on 13th July. Cost is £20 per horse course hire and £25 for the lesson.
URL:https://www.northwoodridingclub.co.uk/event/3102/
LOCATION:Pachesham Equestrian\, Randall road\, Leatherhead\, KT220AL
CATEGORIES:Training
END:VEVENT
END:VCALENDAR