BEGIN:VCALENDAR
VERSION:2.0
PRODID:-// - ECPv6.15.20//NONSGML v1.0//EN
CALSCALE:GREGORIAN
METHOD:PUBLISH
X-ORIGINAL-URL:https://www.northwoodridingclub.co.uk
X-WR-CALDESC:Events for 
REFRESH-INTERVAL;VALUE=DURATION:PT1H
X-Robots-Tag:noindex
X-PUBLISHED-TTL:PT1H
BEGIN:VTIMEZONE
TZID:Europe/London
BEGIN:DAYLIGHT
TZOFFSETFROM:+0000
TZOFFSETTO:+0100
TZNAME:BST
DTSTART:20240331T010000
END:DAYLIGHT
BEGIN:STANDARD
TZOFFSETFROM:+0100
TZOFFSETTO:+0000
TZNAME:GMT
DTSTART:20241027T010000
END:STANDARD
BEGIN:DAYLIGHT
TZOFFSETFROM:+0000
TZOFFSETTO:+0100
TZNAME:BST
DTSTART:20250330T010000
END:DAYLIGHT
BEGIN:STANDARD
TZOFFSETFROM:+0100
TZOFFSETTO:+0000
TZNAME:GMT
DTSTART:20251026T010000
END:STANDARD
BEGIN:DAYLIGHT
TZOFFSETFROM:+0000
TZOFFSETTO:+0100
TZNAME:BST
DTSTART:20260329T010000
END:DAYLIGHT
BEGIN:STANDARD
TZOFFSETFROM:+0100
TZOFFSETTO:+0000
TZNAME:GMT
DTSTART:20261025T010000
END:STANDARD
END:VTIMEZONE
BEGIN:VEVENT
DTSTART;VALUE=DATE:20250405
DTEND;VALUE=DATE:20250406
DTSTAMP:20260424T071520
CREATED:20250319T213544Z
LAST-MODIFIED:20250319T213544Z
UID:3084-1743811200-1743897599@www.northwoodridingclub.co.uk
SUMMARY:Poles and Jump lesson
DESCRIPTION:Poles and jump with Helen Cranfield will be on Saturday 5th April at BCA .
URL:https://www.northwoodridingclub.co.uk/event/poles-and-jump-lesson/
LOCATION:B.C.A Hall Place Maidenhead Berkshire\, HALL PLACE\, Burchetts Green\, SL66QR
CATEGORIES:Training
END:VEVENT
BEGIN:VEVENT
DTSTART;VALUE=DATE:20250405
DTEND;VALUE=DATE:20250406
DTSTAMP:20260424T071520
CREATED:20250404T125134Z
LAST-MODIFIED:20250404T125134Z
UID:3096-1743811200-1743897599@www.northwoodridingclub.co.uk
SUMMARY:Poles and Jump lesson with Helen Canfield
DESCRIPTION:
URL:https://www.northwoodridingclub.co.uk/event/poles-and-jump-lesson-with-helen-canfield/
LOCATION:B.C.A Hall Place Maidenhead Berkshire\, HALL PLACE\, Burchetts Green\, SL66QR
CATEGORIES:Training
END:VEVENT
BEGIN:VEVENT
DTSTART;TZID=Europe/London:20250405T120000
DTEND;TZID=Europe/London:20250405T170000
DTSTAMP:20260424T071520
CREATED:20250326T204427Z
LAST-MODIFIED:20250326T204427Z
UID:3089-1743854400-1743872400@www.northwoodridingclub.co.uk
SUMMARY:Helen Canfield  Jump/ pole lesson
DESCRIPTION:
URL:https://www.northwoodridingclub.co.uk/event/helen-canfield-jump-pole-lesson/
LOCATION:stockers farm road Rickmansworth Herts\, United Kingdom
CATEGORIES:Training
END:VEVENT
BEGIN:VEVENT
DTSTART;VALUE=DATE:20250420
DTEND;VALUE=DATE:20250421
DTSTAMP:20260424T071520
CREATED:20250327T060149Z
LAST-MODIFIED:20250327T060149Z
UID:3091-1745107200-1745193599@www.northwoodridingclub.co.uk
SUMMARY:Jack Boarder poles and flat lesson
DESCRIPTION:
URL:https://www.northwoodridingclub.co.uk/event/jack-boarder-poles-and-flat-lesson/
LOCATION:stockers farm road Rickmansworth Herts\, United Kingdom
CATEGORIES:Training
END:VEVENT
END:VCALENDAR