BEGIN:VCALENDAR
VERSION:2.0
PRODID:-// - ECPv6.15.20//NONSGML v1.0//EN
CALSCALE:GREGORIAN
METHOD:PUBLISH
X-ORIGINAL-URL:https://www.northwoodridingclub.co.uk
X-WR-CALDESC:Events for 
REFRESH-INTERVAL;VALUE=DURATION:PT1H
X-Robots-Tag:noindex
X-PUBLISHED-TTL:PT1H
BEGIN:VTIMEZONE
TZID:Europe/London
BEGIN:DAYLIGHT
TZOFFSETFROM:+0000
TZOFFSETTO:+0100
TZNAME:BST
DTSTART:20240331T010000
END:DAYLIGHT
BEGIN:STANDARD
TZOFFSETFROM:+0100
TZOFFSETTO:+0000
TZNAME:GMT
DTSTART:20241027T010000
END:STANDARD
BEGIN:DAYLIGHT
TZOFFSETFROM:+0000
TZOFFSETTO:+0100
TZNAME:BST
DTSTART:20250330T010000
END:DAYLIGHT
BEGIN:STANDARD
TZOFFSETFROM:+0100
TZOFFSETTO:+0000
TZNAME:GMT
DTSTART:20251026T010000
END:STANDARD
BEGIN:DAYLIGHT
TZOFFSETFROM:+0000
TZOFFSETTO:+0100
TZNAME:BST
DTSTART:20260329T010000
END:DAYLIGHT
BEGIN:STANDARD
TZOFFSETFROM:+0100
TZOFFSETTO:+0000
TZNAME:GMT
DTSTART:20261025T010000
END:STANDARD
END:VTIMEZONE
BEGIN:VEVENT
DTSTART;VALUE=DATE:20250920
DTEND;VALUE=DATE:20250921
DTSTAMP:20260421T142506
CREATED:20250404T130158Z
LAST-MODIFIED:20250404T130158Z
UID:3098-1758326400-1758412799@www.northwoodridingclub.co.uk
SUMMARY:Blenheim Horse Trails Trip
DESCRIPTION:Blenheim Horse Trials Trip – 20th September 2025. \n  \nUpdate: We have 5 people interested and need 10 more. \n  \nWe are planning a NRC trip to Blenheim and now have the details: \nMinibus from Stockers to Blenheim and back again. \nEntry to Horse Trials with Lakeside parking. \nCost: £75 NRC members and £80 non NRC members
URL:https://www.northwoodridingclub.co.uk/event/blenheim-horse-trails-trip/
LOCATION:OX20 1PS
CATEGORIES:Social
END:VEVENT
END:VCALENDAR